BEGIN:VCALENDAR
VERSION:2.0
PRODID:-//Nato-Veterans - ECPv6.15.20//NONSGML v1.0//EN
CALSCALE:GREGORIAN
METHOD:PUBLISH
X-WR-CALNAME:Nato-Veterans
X-ORIGINAL-URL:https://nato-veterans.org
X-WR-CALDESC:Events for Nato-Veterans
REFRESH-INTERVAL;VALUE=DURATION:PT1H
X-Robots-Tag:noindex
X-PUBLISHED-TTL:PT1H
BEGIN:VTIMEZONE
TZID:America/New_York
BEGIN:DAYLIGHT
TZOFFSETFROM:-0500
TZOFFSETTO:-0400
TZNAME:EDT
DTSTART:20230312T070000
END:DAYLIGHT
BEGIN:STANDARD
TZOFFSETFROM:-0400
TZOFFSETTO:-0500
TZNAME:EST
DTSTART:20231105T060000
END:STANDARD
BEGIN:DAYLIGHT
TZOFFSETFROM:-0500
TZOFFSETTO:-0400
TZNAME:EDT
DTSTART:20240310T070000
END:DAYLIGHT
BEGIN:STANDARD
TZOFFSETFROM:-0400
TZOFFSETTO:-0500
TZNAME:EST
DTSTART:20241103T060000
END:STANDARD
BEGIN:DAYLIGHT
TZOFFSETFROM:-0500
TZOFFSETTO:-0400
TZNAME:EDT
DTSTART:20250309T070000
END:DAYLIGHT
BEGIN:STANDARD
TZOFFSETFROM:-0400
TZOFFSETTO:-0500
TZNAME:EST
DTSTART:20251102T060000
END:STANDARD
END:VTIMEZONE
BEGIN:VEVENT
DTSTART;TZID=America/New_York:20240429T090000
DTEND;TZID=America/New_York:20240429T100000
DTSTAMP:20260423T181104
CREATED:20240407T024123Z
LAST-MODIFIED:20240525T072822Z
UID:2080-1714381200-1714384800@nato-veterans.org
SUMMARY:Elisabeth Braw Interview - Click here to Register!
DESCRIPTION:Click here to Register! \nJoin us\, as part of NAVI Speaker Series\, for an insightful conversation with renowned author Elisabeth Braw as she discusses her latest book\, “Goodbye Globalization”. Explore globalization\, geopolitics\, and emerging national security threats with one of the leading voices in the field. \n \nElisabeth Braw is a Senior Fellow at the Atlantic Council’s Transatlantic Security Initiative\, bringing a wealth of expertise and research to the table. With a distinguished academic background including studies at the University of Oxford and Friedrich Schiller University Jena\, she offers unique insights into the complex interplay between global forces and national security dynamics. \nDon’t miss this opportunity to gain deeper understanding and perspectives on the shifting landscape of our interconnected world. Reserve your spot now for an engaging dialogue with Elisabeth Braw.\nAs a special bonus\, we will be giving away five copies of “Goodbye Globalization” to lucky participants through a lottery. Don’t miss this chance to win a copy and engage in a thought-provoking discussion with Elisabeth Braw. \nClick here to register! \nA Teams link will be shared with you to join the event at the email you provided.\nThank you for joining us!\nNAVI
URL:https://nato-veterans.org/event/elisabeth-braw-interview/
LOCATION:Teams – Live
CATEGORIES:Expert Interviews Lectures&Speeches
ATTACH;FMTTYPE=image/png:https://nato-veterans.org/wp-content/uploads/2024/04/elisabeth-braw-.png
END:VEVENT
END:VCALENDAR