BEGIN:VCALENDAR
VERSION:2.0
PRODID:-//Nato-Veterans - ECPv6.15.20//NONSGML v1.0//EN
CALSCALE:GREGORIAN
METHOD:PUBLISH
X-ORIGINAL-URL:https://nato-veterans.org
X-WR-CALDESC:Events for Nato-Veterans
REFRESH-INTERVAL;VALUE=DURATION:PT1H
X-Robots-Tag:noindex
X-PUBLISHED-TTL:PT1H
BEGIN:VTIMEZONE
TZID:America/New_York
BEGIN:DAYLIGHT
TZOFFSETFROM:-0500
TZOFFSETTO:-0400
TZNAME:EDT
DTSTART:20230312T070000
END:DAYLIGHT
BEGIN:STANDARD
TZOFFSETFROM:-0400
TZOFFSETTO:-0500
TZNAME:EST
DTSTART:20231105T060000
END:STANDARD
BEGIN:DAYLIGHT
TZOFFSETFROM:-0500
TZOFFSETTO:-0400
TZNAME:EDT
DTSTART:20240310T070000
END:DAYLIGHT
BEGIN:STANDARD
TZOFFSETFROM:-0400
TZOFFSETTO:-0500
TZNAME:EST
DTSTART:20241103T060000
END:STANDARD
BEGIN:DAYLIGHT
TZOFFSETFROM:-0500
TZOFFSETTO:-0400
TZNAME:EDT
DTSTART:20250309T070000
END:DAYLIGHT
BEGIN:STANDARD
TZOFFSETFROM:-0400
TZOFFSETTO:-0500
TZNAME:EST
DTSTART:20251102T060000
END:STANDARD
BEGIN:DAYLIGHT
TZOFFSETFROM:-0500
TZOFFSETTO:-0400
TZNAME:EDT
DTSTART:20260308T070000
END:DAYLIGHT
BEGIN:STANDARD
TZOFFSETFROM:-0400
TZOFFSETTO:-0500
TZNAME:EST
DTSTART:20261101T060000
END:STANDARD
END:VTIMEZONE
BEGIN:VEVENT
DTSTART;TZID=America/New_York:20251028T110000
DTEND;TZID=America/New_York:20251028T110000
DTSTAMP:20260423T121603
CREATED:20251012T123603Z
LAST-MODIFIED:20251016T065149Z
UID:3813-1761649200-1761649200@nato-veterans.org
SUMMARY:NAVI webinar series – Future warfare: What the changing security landscape means for NATO
DESCRIPTION:Join us for an engaging discussion on the evolving nature of conflict and the technological transformation of warfare shaping the global security environment. Explore how geopolitical shifts are redefining alliances and threats\, and learn how NATO’s readiness and strategies are adapting to meet emerging challenges in an era of rapid change. \n   
URL:https://nato-veterans.org/event/navi-webinar-series-future-warfare-what-the-changing-security-landscape-means-for-nato/
CATEGORIES:Conference & Seminars
ATTACH;FMTTYPE=image/jpeg:https://nato-veterans.org/wp-content/uploads/2025/10/webinar-changing-security-landscape.jpg
END:VEVENT
BEGIN:VEVENT
DTSTART;VALUE=DATE:20240722
DTEND;VALUE=DATE:20240726
DTSTAMP:20260423T121603
CREATED:20240324T193832Z
LAST-MODIFIED:20250415T163709Z
UID:1606-1721606400-1721951999@nato-veterans.org
SUMMARY:National Homeland Security Conference 2024
DESCRIPTION:REGISTRATION FOR #NHSC2024 IS NOW OPEN!\nJULY 22 – JULY 25\, #NHSC2024 IS COMING TO MIAMI BEACH!\nThe National Homeland Security Conference brings together professionals in Homeland Security\, Law Enforcement\, Fire and Emergency Management. They include officials in federal agencies\, nonprofit agencies\, business owners\, universities and decision makers to learn about emerging trends in homeland security and see the new equipment and technology available to support their mission. Last year’s conference was ground breaking for exhibitors and attendees.  #NHSC2024 at the Miami Beach Convention Center promises to deliver another record breaking experience. The early bird rate is $700.  After June 1\, the rate will be $775.
URL:https://nato-veterans.org/event/national-homeland-security-conference-2024/
LOCATION:Florida\, Miami Beach\, Florida\, United States
ATTACH;FMTTYPE=image/png:https://nato-veterans.org/wp-content/uploads/2024/03/NHSC2024-e1712418371776.png
END:VEVENT
BEGIN:VEVENT
DTSTART;TZID=America/New_York:20240710T080000
DTEND;TZID=America/New_York:20240711T170000
DTSTAMP:20260423T121603
CREATED:20240424T123809Z
LAST-MODIFIED:20240525T072805Z
UID:2360-1720598400-1720717200@nato-veterans.org
SUMMARY:The 2024 NATO Public Forum
DESCRIPTION:NATO Veterans Initiative – NAVI is proud to announce our support for the upcoming 2024 NATO Public Forum\, scheduled for July 10-11. This year’s event is set to be an engaging platform for discussions on vital global issues. NAVI plans to join the event organized by Atlantic Council\, Center for a New American Security (CNAS)\, German Marshall Fund of the United States\, GLOBSEC and Hudson Institute. Thank you all for hosting this significant gathering in Washington\, D.C.
URL:https://nato-veterans.org/event/the-2024-nato-public-forum/
ATTACH;FMTTYPE=image/jpeg:https://nato-veterans.org/wp-content/uploads/2024/04/natopublicforum2024.jpg
END:VEVENT
BEGIN:VEVENT
DTSTART;TZID=America/New_York:20240708T090000
DTEND;TZID=America/New_York:20240708T100000
DTSTAMP:20260423T121603
CREATED:20240702T214443Z
LAST-MODIFIED:20240705T185637Z
UID:2777-1720429200-1720432800@nato-veterans.org
SUMMARY:NATO's 75 Years with NATO Generals
DESCRIPTION:  \nOn July 8\, 2024\, the NATO Veterans Initiative (NAVI) will host a landmark online webinar titled “NATO’s 75 Years with NATO Generals.” This event aims to reflect on the storied history of the North Atlantic Treaty Organization over the past seven and a half decades\, providing a comprehensive overview of its evolution and pivotal moments. In addition to celebrating NATO’s historical milestones\, the topics will also include the challenges and opportunities presented by emerging security threats\, the importance of adaptive strategies in a rapidly changing geopolitical landscape\, and the role of technological advancements in defense.   \nOur distinguished guests are: \nLTG (R) Wiermann \nBG (R) Yalinalp \nCLICK HERE TO REGISTER!
URL:https://nato-veterans.org/event/natos-75-years-with-nato-generals/
ATTACH;FMTTYPE=image/jpeg:https://nato-veterans.org/wp-content/uploads/2024/07/generals-webinar-flyer-slider.jpeg
END:VEVENT
BEGIN:VEVENT
DTSTART;TZID=America/New_York:20240624T090000
DTEND;TZID=America/New_York:20240624T100000
DTSTAMP:20260423T121603
CREATED:20240525T072543Z
LAST-MODIFIED:20240621T151106Z
UID:2673-1719219600-1719223200@nato-veterans.org
SUMMARY:Stanislava Mladenova Interview – Click here to Register!
DESCRIPTION:Join us on June 24\, 2024\, at 10:00 AM (EST) for an exclusive webinar with Dr. Stanislava Mladenova\, a renowned Global Fellow at Brown University’s Center for Human Rights and Humanitarian Studies. Dr. Mladenova brings a wealth of experience\, having worked with the United States Institute of Peace\, NATO\, and the Atlantic Council\, implementing crucial projects across Africa\, Central and South Asia\, and beyond. \nIn this webinar\, Dr. Mladenova will delve into her extensive work on civil-military engagement in fragile states\, as detailed in her book\, “When Rambo Meets the Red Cross.” With her deep expertise in justice and security dialogue\, political advising\, and organizational reform\, this session promises to be insightful and enriching. \nDon’t miss this opportunity to gain valuable insights Dr. Mladenova’s global experiences and expertise. Register now to secure your spot! CLICK HERE TO REGISTER! \nWho is Stanislava Mladenova\nDr. Stanislava Mladenova is a Global Fellow at Brown University’s Center for Human Rights and Humanitarian Studies. Previously\, Stanislava was a Program Officer at the United States Institute of Peace’s Justice and Security Dialogue Program\, where she implemented projects that established dialogue and cooperation between the police forces\, gendarmerie\, and local communities in six West African countries. Prior to USIP\, Stanislava was the Program Manager for the Afghanistan Rising Initiative (ARI) at the Atlantic Council in Washington\, DC\, where she oversaw all daily activities in standing up the ARI Program. She also served as a Political Adviser to the NATO Senior Civilian Representative in Kabul\, Afghanistan\, where she was responsible for advising the NATO Ambassador on economic issues\, governance\, corruption\, disaster management\, gender\, humanitarian assistance\, and the recruitment of child soldiers. At NATO Headquarters in Brussels\, Stanislava was responsible for aligning NATO’s organizational reform initiatives with the Alliance’s political and structural objectives. Stanislava’s work has brought her to Africa\, Central and South Asia\, North and South America\, Western Europe\, and the Balkans. She holds a Doctorate of Philosophy from the Department of War Studies at King’s College London. Stanislava is a former Fellow of the Irregular Warfare Initiative at the US Military Academy at West Point. She speaks English\, Bulgarian and French\, and has proficiency in Russian. Stanislava is the author of When Rambo Meets the Red Cross: Civil-Military Engagement in Fragile States.
URL:https://nato-veterans.org/event/stanislava-mladenova-interview-click-here-to-register/
CATEGORIES:Conference & Seminars,Expert Interviews
ATTACH;FMTTYPE=image/jpeg:https://nato-veterans.org/wp-content/uploads/2024/05/stanislava-mladenova-.jpg
END:VEVENT
BEGIN:VEVENT
DTSTART;TZID=America/New_York:20240429T090000
DTEND;TZID=America/New_York:20240429T100000
DTSTAMP:20260423T121603
CREATED:20240407T024123Z
LAST-MODIFIED:20240525T072822Z
UID:2080-1714381200-1714384800@nato-veterans.org
SUMMARY:Elisabeth Braw Interview - Click here to Register!
DESCRIPTION:Click here to Register! \nJoin us\, as part of NAVI Speaker Series\, for an insightful conversation with renowned author Elisabeth Braw as she discusses her latest book\, “Goodbye Globalization”. Explore globalization\, geopolitics\, and emerging national security threats with one of the leading voices in the field. \n \nElisabeth Braw is a Senior Fellow at the Atlantic Council’s Transatlantic Security Initiative\, bringing a wealth of expertise and research to the table. With a distinguished academic background including studies at the University of Oxford and Friedrich Schiller University Jena\, she offers unique insights into the complex interplay between global forces and national security dynamics. \nDon’t miss this opportunity to gain deeper understanding and perspectives on the shifting landscape of our interconnected world. Reserve your spot now for an engaging dialogue with Elisabeth Braw.\nAs a special bonus\, we will be giving away five copies of “Goodbye Globalization” to lucky participants through a lottery. Don’t miss this chance to win a copy and engage in a thought-provoking discussion with Elisabeth Braw. \nClick here to register! \nA Teams link will be shared with you to join the event at the email you provided.\nThank you for joining us!\nNAVI
URL:https://nato-veterans.org/event/elisabeth-braw-interview/
LOCATION:Teams – Live
CATEGORIES:Expert Interviews Lectures&Speeches
ATTACH;FMTTYPE=image/png:https://nato-veterans.org/wp-content/uploads/2024/04/elisabeth-braw-.png
END:VEVENT
BEGIN:VEVENT
DTSTART;TZID=America/New_York:20240417T030000
DTEND;TZID=America/New_York:20240417T110000
DTSTAMP:20260423T121603
CREATED:20240406T210339Z
LAST-MODIFIED:20240525T072827Z
UID:2074-1713322800-1713351600@nato-veterans.org
SUMMARY:European Defence & Security Summit 2024
DESCRIPTION:European Business Summits and the Aerospace\, Security and Defence Industries Association of Europe (ASD) are pleased to invite you to the 7th European Defence & Security Summit\, which will take place in Cercle Gaulois\, Brussels\, on 17 April 2024.
URL:https://nato-veterans.org/event/european-defence-security-summit-2024/
LOCATION:Brussels\, Brussels\, Belgium
ATTACH;FMTTYPE=image/webp:https://nato-veterans.org/wp-content/uploads/2024/04/memberphoto_fincantieri_hero_edss2024.webp
END:VEVENT
BEGIN:VEVENT
DTSTART;VALUE=DATE:20240206
DTEND;VALUE=DATE:20240207
DTSTAMP:20260423T121603
CREATED:20240406T205245Z
LAST-MODIFIED:20240525T072833Z
UID:2070-1707177600-1707263999@nato-veterans.org
SUMMARY:NATO and the Future of American Security Conference
DESCRIPTION:Join the World Affairs Council of Austin\, the Atlantic Council\, NATO ACT\, the Canadian Consulate General\, and UT-Austin’s Center for European Studies\, Strauss Center for International Security and Law\,\nand Clements Center for National Security for a public conference of NATO officials\, former policymakers\, and scholars engaging in a critical discussion about the role of the transatlantic alliance and its enduring value for Texans\, featuring keynote remarks from General Philippe Lavigne\, Supreme Allied Commander Transformation\, and Ambassador Kay Bailey Hutchison\, Former U.S. Permanent Representative to NATO and United States Senator for the state of Texas. \nThis year’s historic NATO Summit will take place in the United States from July 9 to 11. As Allies gather to celebrate 75 years of NATO\, the future of the world’s strongest military alliance will be a key topic of discussion for Heads of State and Government preparing for an era of unprecedented strategic competition and endemic geopolitical disruption. \nJoin us at the Etter-Harbin Alumni Center from 10:00 am – 3:00 pm. This event is free and open to the public. Registration is required and does not guarantee admission. Parking is available for a fee at Manor and Brazos garages.  Complimentary lunch will be available.
URL:https://nato-veterans.org/event/nato-and-the-future-of-american-security-conference/
LOCATION:University of Texas\, Texas\, United States
ATTACH;FMTTYPE=image/jpeg:https://nato-veterans.org/wp-content/uploads/2024/04/NATO_2024-scaled-1.jpeg
END:VEVENT
END:VCALENDAR